BEGIN:VCALENDAR
VERSION:2.0
PRODID:-//Treasury Solutions - ECPv4.5.4//NONSGML v1.0//EN
CALSCALE:GREGORIAN
METHOD:PUBLISH
X-WR-CALNAME:Treasury Solutions
X-ORIGINAL-URL:http://treasurysolutions.ie
X-WR-CALDESC:Events for Treasury Solutions
BEGIN:VEVENT
DTSTART;TZID=Europe/London:20171005T110000
DTEND;TZID=Europe/London:20171005T130000
DTSTAMP:20171106T060217
CREATED:20170905T141901Z
LAST-MODIFIED:20170905T142003Z
UID:612-1507201200-1507208400@treasurysolutions.ie
SUMMARY:Get your Business Brexit Ready
DESCRIPTION:The Local Enterprise Office Offaly are hosting an information seminar on preparing your business to be Brexit ready. The Brexit Information Seminar will focus on identifying exposure to Brexit and how you can prepare your business to address them.\n\n\n\n\n\n\n\n\nSpeakers on the day are:\n\n \tJohn Finn\, MD\, Treasury Solutions Ltd - Preparing for Brexit with a focus on financial and commercial implications for your business.\n \tEnterprise Ireland Brexit Division\n \tPaddy Savage\, Programme Manager\, Inter TradeIreland\n \tOrla Martin\, Head of Enterprise\, LEO Offaly\n\nEnterprise Ireland\, Inter TradeIreland and LEO will each address supports available from their organisations to address the challenges and opportunities arising from the possible implications of Brexit.\n\nAttendance is free but pre-registration is essential.\n\n\n\n\n\n\n
URL:http://treasurysolutions.ie/event/get-business-brexit-ready/
LOCATION:Tullamore Court Hotel\, Tullamore\, Co. Offaly\, Ireland
CATEGORIES:Seminar
END:VEVENT
END:VCALENDAR