BEGIN:VCALENDAR
VERSION:2.0
PRODID:-//Treasury Solutions - ECPv4.5.4//NONSGML v1.0//EN
CALSCALE:GREGORIAN
METHOD:PUBLISH
X-WR-CALNAME:Treasury Solutions
X-ORIGINAL-URL:http://treasurysolutions.ie
X-WR-CALDESC:Events for Treasury Solutions
BEGIN:VEVENT
DTSTART;TZID=Europe/London:20170309T093000
DTEND;TZID=Europe/London:20170309T130000
DTSTAMP:20171106T055153
CREATED:20170610T133148Z
LAST-MODIFIED:20170610T133807Z
UID:560-1489051800-1489064400@treasurysolutions.ie
SUMMARY:Take it to the banks 2017
DESCRIPTION:
URL:http://treasurysolutions.ie/event/take-it-to-the-banks-2017/
LOCATION:Butler House\, Kilkenny\, Ireland
CATEGORIES:ENTERPRISE WEEK EVENTS
ATTACH;FMTTYPE=image/jpeg:http://treasurysolutions.ie/wp-content/uploads/2017/02/des-MONEY-AND-JOBS-2.jpg
END:VEVENT
END:VCALENDAR