BEGIN:VCALENDAR
VERSION:2.0
PRODID:-//Treasury Solutions - ECPv4.5.4//NONSGML v1.0//EN
CALSCALE:GREGORIAN
METHOD:PUBLISH
X-WR-CALNAME:Treasury Solutions
X-ORIGINAL-URL:http://treasurysolutions.ie
X-WR-CALDESC:Events for Treasury Solutions
BEGIN:VEVENT
DTSTART;TZID=Europe/London:20170310T083000
DTEND;TZID=Europe/London:20170310T120000
DTSTAMP:20171106T055245
CREATED:20170610T132932Z
LAST-MODIFIED:20170610T132932Z
UID:556-1489134600-1489147200@treasurysolutions.ie
SUMMARY:Let’s talk Business
DESCRIPTION:
URL:http://treasurysolutions.ie/event/lets-talk-business/
LOCATION:The Walter Raleighh Hotel\, Youghal\, Ireland
CATEGORIES:ENTERPRISE WEEK EVENTS
END:VEVENT
END:VCALENDAR