BEGIN:VCALENDAR
VERSION:2.0
PRODID:-//Treasury Solutions - ECPv4.5.4//NONSGML v1.0//EN
CALSCALE:GREGORIAN
METHOD:PUBLISH
X-WR-CALNAME:Treasury Solutions
X-ORIGINAL-URL:http://treasurysolutions.ie
X-WR-CALDESC:Events for Treasury Solutions
BEGIN:VEVENT
DTSTART;TZID=Europe/London:20170608T110000
DTEND;TZID=Europe/London:20170608T110000
DTSTAMP:20171106T055532
CREATED:20170610T122052Z
LAST-MODIFIED:20170610T124320Z
UID:530-1496919600-1496919600@treasurysolutions.ie
SUMMARY:Get your business Brexit ready
DESCRIPTION:This Brexit Information Seminar will focus on identifying exposure to Brexit and how you can prepare your business to address them.
URL:http://treasurysolutions.ie/event/get-your-business-brexit-ready/
LOCATION:Radisson Hotel\, Athlone\, Ireland
ATTACH;FMTTYPE=image/jpeg:http://treasurysolutions.ie/wp-content/uploads/2017/02/des-MONEY-AND-JOBS-2.jpg
END:VEVENT
END:VCALENDAR