BEGIN:VCALENDAR
VERSION:2.0
PRODID:-//Treasury Solutions - ECPv4.5.4//NONSGML v1.0//EN
CALSCALE:GREGORIAN
METHOD:PUBLISH
X-WR-CALNAME:Treasury Solutions
X-ORIGINAL-URL:http://treasurysolutions.ie
X-WR-CALDESC:Events for Treasury Solutions
BEGIN:VEVENT
DTSTART;TZID=Europe/London:20170308T133000
DTEND;TZID=Europe/London:20170308T160000
DTSTAMP:20171106T055119
CREATED:20170610T133725Z
LAST-MODIFIED:20170610T133725Z
UID:564-1488979800-1488988800@treasurysolutions.ie
SUMMARY:Brexit-proof your business
DESCRIPTION:
URL:http://treasurysolutions.ie/event/brexit-proof-your-business/
LOCATION:Maryborough House Hotel\, Cork\, Ireland
CATEGORIES:ENTERPRISE WEEK EVENTS
ATTACH;FMTTYPE=image/jpeg:http://treasurysolutions.ie/wp-content/uploads/2017/02/des-MONEY-AND-JOBS-2.jpg
END:VEVENT
END:VCALENDAR