BEGIN:VCALENDAR
VERSION:2.0
PRODID:-//Treasury Solutions - ECPv4.5.4//NONSGML v1.0//EN
CALSCALE:GREGORIAN
METHOD:PUBLISH
X-WR-CALNAME:Treasury Solutions
X-ORIGINAL-URL:http://treasurysolutions.ie
X-WR-CALDESC:Events for Treasury Solutions
BEGIN:VEVENT
DTSTART;TZID=Europe/London:20170406T183000
DTEND;TZID=Europe/London:20170406T190000
DTSTAMP:20171106T055410
CREATED:20170610T131932Z
LAST-MODIFIED:20170610T131932Z
UID:544-1491503400-1491505200@treasurysolutions.ie
SUMMARY:Brexit implications and proposed strategies for the Irish Food Sector
DESCRIPTION:
URL:http://treasurysolutions.ie/event/brexit-implications-and-proposed-strategies-for-the-irish-food-sector/
LOCATION:Clayton Silversprings\, Cork\, Ireland
ATTACH;FMTTYPE=image/jpeg:http://treasurysolutions.ie/wp-content/uploads/2017/02/des-MONEY-AND-JOBS-2.jpg
END:VEVENT
END:VCALENDAR